BEGIN:VCALENDAR
VERSION:2.0
PRODID:-//Irish Reflexologists&#039; Institute - ECPv6.15.20//NONSGML v1.0//EN
CALSCALE:GREGORIAN
METHOD:PUBLISH
X-ORIGINAL-URL:https://www.reflexology.ie
X-WR-CALDESC:Events for Irish Reflexologists&#039; Institute
REFRESH-INTERVAL;VALUE=DURATION:PT1H
X-Robots-Tag:noindex
X-PUBLISHED-TTL:PT1H
BEGIN:VTIMEZONE
TZID:Europe/Dublin
BEGIN:DAYLIGHT
TZOFFSETFROM:+0000
TZOFFSETTO:+0100
TZNAME:IST
DTSTART:20240331T010000
END:DAYLIGHT
BEGIN:STANDARD
TZOFFSETFROM:+0100
TZOFFSETTO:+0000
TZNAME:GMT
DTSTART:20241027T010000
END:STANDARD
BEGIN:DAYLIGHT
TZOFFSETFROM:+0000
TZOFFSETTO:+0100
TZNAME:IST
DTSTART:20250330T010000
END:DAYLIGHT
BEGIN:STANDARD
TZOFFSETFROM:+0100
TZOFFSETTO:+0000
TZNAME:GMT
DTSTART:20251026T010000
END:STANDARD
BEGIN:DAYLIGHT
TZOFFSETFROM:+0000
TZOFFSETTO:+0100
TZNAME:IST
DTSTART:20260329T010000
END:DAYLIGHT
BEGIN:STANDARD
TZOFFSETFROM:+0100
TZOFFSETTO:+0000
TZNAME:GMT
DTSTART:20261025T010000
END:STANDARD
END:VTIMEZONE
BEGIN:VEVENT
DTSTART;TZID=Europe/Dublin:20251101T093000
DTEND;TZID=Europe/Dublin:20251101T133000
DTSTAMP:20260420T000041
CREATED:20250312T210047Z
LAST-MODIFIED:20250925T220027Z
UID:3000-1761989400-1762003800@www.reflexology.ie
SUMMARY:Zoom Basic First Aid -  Saturday 1st November 2025
DESCRIPTION:Saturday 1st November First Aid For Everyone 9.30am – 1.30pm\nTopics covered are: \n\nActivation of the emergency services\nChoking\nHead injury\nBurns\nRecovery position and unconscious casualty\nSprains and strains\nCPR ( if you can have a sofa cushion ready to practice the CPR that would be great )\nEpilepsy and much more\n\n\n\n\n\n\n\n\n\n\n\n\n\n\n\n\n\n\nThis is a live class so you will need a working camera. \n\n\n\n\n\n\n\n\n\n\n\n\n\n\n\n\n\nAnd time for Q&A \nThe cameras must be on as we treat this the same as if it were a face to face class. \nEach participant will receive a certificate of attendance valid for 2 years.  \nCost- €80.00 \n50 CPD Points \nLimited Places
URL:https://www.reflexology.ie/event/zoom-basic-first-aid-saturday-1st-november-2025/
LOCATION:Online – Zoom
CATEGORIES:First Aid
ATTACH;FMTTYPE=image/png:https://www.reflexology.ie/wp-content/uploads/2025/03/Zoom-Basic-FA-1st-November-2025.png
END:VEVENT
BEGIN:VEVENT
DTSTART;TZID=Europe/Dublin:20251118T190000
DTEND;TZID=Europe/Dublin:20251118T200000
DTSTAMP:20260420T000041
CREATED:20250716T131746Z
LAST-MODIFIED:20250716T131746Z
UID:3478-1763492400-1763496000@www.reflexology.ie
SUMMARY:Zoom CPD - Catriona Plunkett - Reflexology for Children with Digestive Ailments
DESCRIPTION:Tuesday 18th November 2025 7pm – 8pm (Not Recorded) \nCatriona Plunkett is a Reflexologist and Trainer at Golden Egg Holistic (IRI & ITEC Approved Training centre) \nIs this presentation \, Catriona will discuss common digestive ailments in Babies and Children\, how to recognise them\, how to treat with Reflexology and also research studies showing how successful Reflexology can be to treat such ailments. \nAll Welcome \nTickets €10 Members / €15 Non Members
URL:https://www.reflexology.ie/event/zoom-cpd-catriona-plunkett-reflexology-for-children-with-digestive-ailments/
LOCATION:Online – Zoom
ATTACH;FMTTYPE=image/png:https://www.reflexology.ie/wp-content/uploads/2025/07/Catriona-Plunkett-Nov-25.png
END:VEVENT
BEGIN:VEVENT
DTSTART;TZID=Europe/Dublin:20251125T190000
DTEND;TZID=Europe/Dublin:20251125T200000
DTSTAMP:20260420T000041
CREATED:20250716T133719Z
LAST-MODIFIED:20250716T133806Z
UID:3484-1764097200-1764100800@www.reflexology.ie
SUMMARY:Zoom CPD - Eileen Washington - Introduction to Hand Reflexology
DESCRIPTION:Tuesday 25th November 2025\, 7pm-8pm\, (Not Recorded) \nEileen has18 years experience in the holistic field. Massage and Reflexology therapist and tutor. Love working with clients and seeing the benefits for them. Love to share my knowledge and nurture students and watch them grow. \nThe presentation will cover:\nBenefits to clients and therapists. \nDemonstration of hand reflexology: \nincluding\, opening relaxation techniques. \nThe spine. \nHead\, brain and sinus. \nColon. \nAll Welcome \nTickets €10 Members / €15 Non Members
URL:https://www.reflexology.ie/event/zoom-cpd-eileen-washington-introduction-to-hand-reflexology/
LOCATION:Online – Zoom
ATTACH;FMTTYPE=image/png:https://www.reflexology.ie/wp-content/uploads/2025/07/Eileen-Washington.png
END:VEVENT
END:VCALENDAR