BEGIN:VCALENDAR
VERSION:2.0
PRODID:-//Irish Reflexologists&#039; Institute - ECPv6.15.20//NONSGML v1.0//EN
CALSCALE:GREGORIAN
METHOD:PUBLISH
X-ORIGINAL-URL:https://www.reflexology.ie
X-WR-CALDESC:Events for Irish Reflexologists&#039; Institute
REFRESH-INTERVAL;VALUE=DURATION:PT1H
X-Robots-Tag:noindex
X-PUBLISHED-TTL:PT1H
BEGIN:VTIMEZONE
TZID:Europe/Dublin
BEGIN:DAYLIGHT
TZOFFSETFROM:+0000
TZOFFSETTO:+0100
TZNAME:IST
DTSTART:20250330T010000
END:DAYLIGHT
BEGIN:STANDARD
TZOFFSETFROM:+0100
TZOFFSETTO:+0000
TZNAME:GMT
DTSTART:20251026T010000
END:STANDARD
BEGIN:DAYLIGHT
TZOFFSETFROM:+0000
TZOFFSETTO:+0100
TZNAME:IST
DTSTART:20260329T010000
END:DAYLIGHT
BEGIN:STANDARD
TZOFFSETFROM:+0100
TZOFFSETTO:+0000
TZNAME:GMT
DTSTART:20261025T010000
END:STANDARD
BEGIN:DAYLIGHT
TZOFFSETFROM:+0000
TZOFFSETTO:+0100
TZNAME:IST
DTSTART:20270328T010000
END:DAYLIGHT
BEGIN:STANDARD
TZOFFSETFROM:+0100
TZOFFSETTO:+0000
TZNAME:GMT
DTSTART:20271031T010000
END:STANDARD
END:VTIMEZONE
BEGIN:VEVENT
DTSTART;TZID=Europe/Dublin:20260409T093000
DTEND;TZID=Europe/Dublin:20260409T133000
DTSTAMP:20260420T012959
CREATED:20251213T121912Z
LAST-MODIFIED:20251213T121912Z
UID:4220-1775727000-1775741400@www.reflexology.ie
SUMMARY:Zoom First Aid Thursday 9th April 2026
DESCRIPTION:Thursday 9th April 2026 First Aid For Everyone 9.30am – 1.30pm\nTopics covered are: \n\nActivation of the emergency services\nChoking\nHead injury\nBurns\nRecovery position and unconscious casualty\nSprains and strains\nCPR ( if you can have a sofa cushion ready to practice the CPR that would be great )\nEpilepsy and much more\n\n\n\n\n\n\n\n\n\n\n\n\n\n\n\n\n\n\nThis is a live class so you will need a working camera. \n\n\n\n\n\n\n\n\n\n\n\n\n\n\n\n\n\nAnd time for Q&A \nThe cameras must be on as we treat this the same as if it were a face to face class. \nEach participant will receive a certificate of attendance valid for 2 years.  \nCost- €80.00 \n50 CPD Points \nLimited Places
URL:https://www.reflexology.ie/event/zoom-first-aid-thursday-9th-april-2026/
LOCATION:Online – Zoom
CATEGORIES:First Aid
ATTACH;FMTTYPE=image/png:https://www.reflexology.ie/wp-content/uploads/2025/12/Zoom-Basic-First-Aid-9th-April-2026.png
END:VEVENT
BEGIN:VEVENT
DTSTART;TZID=Europe/Dublin:20260420T200000
DTEND;TZID=Europe/Dublin:20260420T210000
DTSTAMP:20260420T012959
CREATED:20250716T171919Z
LAST-MODIFIED:20260325T165227Z
UID:3524-1776715200-1776718800@www.reflexology.ie
SUMMARY:Zoom CPD - Pauline O'Hagan - Maternity Reflexology
DESCRIPTION:Monday 20th April 2025\, 8pm – 9pm (Recorded) \nPauline has been working as a reflexologist for 40 yrs \, she trained as a general nurse and midwife first and has spent 40 yrs teaching antenatal classes and preparing mothers for labour and delivery. She is  passionate about all things maternity and  wants to impart her knowledge to all reflexologists.  She feels the whole business of having babies has been over medicalised and women are filled with fear\, we as reflexologists can do a lot to help prepare mothers to have a positive birthing experience. .  \nSimple explanations of comment ailments in Pregnancy and supportive measures of how to relieve them\nincluding Morning sickness; heartburn; Constipation; Anaemia; Carpel Tunnel Syndrome\,\nFatigue; Anxiety; Cystitis; Dizziness; Pelvic pain; Insomnia; Leg cramps; Restless legs\,\nSciatica; Gestational Diabetes\, Symphysis Pubis Diastasis \n\n Progress of Pregnancy and areas/reflexes to focus on at each stage\, week by week\n Areas/Reflexes on feet to focus on for each ailment\n Advice for Optimal Foetal Positioning\n Going to hospital. A few extras to make life easy\n Reflexology for Labour – sedating and stimulating techniques. Useful positions for during labour\n Explanation of hormones involved in the process of labour\n Stages of labour. Good labour positions\n Situations requiring immediate attention\n Practical section of course includes useful Reflexology techniques including Solar Plexus hold\, Pelvic stretch\, Spinal Twist\, Spinal Stretching\, Lung Press\, Ankle Boogie. Ankle Rotation; Urinary System Flush\, Metamorphic Technique and Coping point.\n\nAll Welcome \nTickets €10 Members / €15 Non Members
URL:https://www.reflexology.ie/event/zoom-cpd-pauline-ohagan-maternity-reflexology/
LOCATION:Online – Zoom
ATTACH;FMTTYPE=image/png:https://www.reflexology.ie/wp-content/uploads/2025/07/Pauline-OHagan-13-April-2026-1.png
END:VEVENT
BEGIN:VEVENT
DTSTART;TZID=Europe/Dublin:20260427T200000
DTEND;TZID=Europe/Dublin:20260427T210000
DTSTAMP:20260420T012959
CREATED:20250716T174006Z
LAST-MODIFIED:20260310T091924Z
UID:3528-1777320000-1777323600@www.reflexology.ie
SUMMARY:Zoom CPD - Dorothy Kelly - My Approach to Fertility Reflexology\, with a Naturopathic twist 
DESCRIPTION:Monday 27th April 2026\, 8pm – 9pm (Recorded) \nPreconception care is key to boosting fertility\, optimising fertilisation\, and ensuring a healthy pregnancy. A tailored evidence based approach supports both partners—cleaner nutrition\, stress management\, gentle exercise\, and reflexology help regulate/enhance menstruation in women\, while men benefit from dietary support\, reflexology\, and both benefit from naturopathic techniques alongside SA analysis or referrals for further investigation. This client-centred\, holistic\, practical approach empowers individuals on their fertility journey and beyond. \nMy overall success rate has been over 89%. \nWith extensive NHS experience in both primary and secondary care\, I’ve spent years specialising in women’s health—gynae\, maternity\, and fertility—working in Belfast’s first NHS fertility clinic before ART clinics emerged . I’ve also worked in a private Fertility Clinic in Belfast gaining knowledge which I used to translate into Reflexology techniques for ART clients.  My  practical reflexology work deepened my expertise\, and as a reflexologist\, I honed my fertility – focused approach after completing my Naturopathy qualification. For 15 years\, I’ve taught my CPD course\, whilst for 10 years I’ve delivered the OFQUAL regulated L5 Reflexology qualification in Belfast. Now\, I’ve expanded into Castleblayney\, establishing the L5 course—equivalent to L6 QQI—since March 2025\, in collaboration with my ROI tutor Jenny McKeever. \nAll Welcome \nTickets €10 Members / €15 Non Members
URL:https://www.reflexology.ie/event/zoom-cpd-dorothy-kelly-my-approach-to-fertility-reflexology-with-a-naturopathic-twist/
LOCATION:Online – Zoom
ATTACH;FMTTYPE=image/png:https://www.reflexology.ie/wp-content/uploads/2025/07/Dorothy-Kelly-27th-April-2026.png
END:VEVENT
BEGIN:VEVENT
DTSTART;TZID=Europe/Dublin:20260505T200000
DTEND;TZID=Europe/Dublin:20260505T210000
DTSTAMP:20260420T012959
CREATED:20260413T171048Z
LAST-MODIFIED:20260419T151547Z
UID:4672-1778011200-1778014800@www.reflexology.ie
SUMMARY:Zoom CPD - Kevin Kunz - Neural Pathways to Applied Reflexology - (This Event will be Recorded)
DESCRIPTION:This Event will be Recorded\n \nSome events feel a bit special… this is one of them.\n \nWe’re delighted to welcome internationally recognised reflexology pioneers Barbara Kunz and Kevin Kunz for an exclusive Zoom CPD this May.\n \nWith over 50 years of work in reflexology\, their contribution to the field is extraordinary – from authoring globally published texts to leading cutting-edge research exploring the connection between the foot and the brain.\n \nOn the night\, they’ll be sharing:\n• the latest developments in reflexology research\n• insights into their current Neural Pathways of Applied Reflexology project\n• a preview of their upcoming presentation to thousands of neuroscientists\n• and the evolving collaboration with two universities in this space\n \nBarbara will be co-presenting\, making this a rare opportunity to hear directly from both of them.\n \n🗓️ 5th May\n⏰ 8–9pm GMT\n💻 Live on Zoom\n \nIf you’re a reflexologist who wants to stay informed\, inspired\, and connected to where the profession is going\, this is not one to miss.\n \n🎟️ Tickets available now at www.reflexology.ie
URL:https://www.reflexology.ie/event/zoom-cpd-kevin-kunz-neural-pathways-to-applied-reflexology/
LOCATION:Online – Zoom
ATTACH;FMTTYPE=image/png:https://www.reflexology.ie/wp-content/uploads/2026/04/kevin-kunzs.png
END:VEVENT
BEGIN:VEVENT
DTSTART;TZID=Europe/Dublin:20260519T093000
DTEND;TZID=Europe/Dublin:20260519T133000
DTSTAMP:20260420T012959
CREATED:20260312T151551Z
LAST-MODIFIED:20260312T151551Z
UID:4558-1779183000-1779197400@www.reflexology.ie
SUMMARY:Zoom First Aid 19th May 2026
DESCRIPTION:Tuesday 19th May 2026 First Aid For Everyone 9.30am – 1.30pm\nTopics covered are: \n\nActivation of the emergency services\nChoking\nHead injury\nBurns\nRecovery position and unconscious casualty\nSprains and strains\nCPR ( if you can have a sofa cushion ready to practice the CPR that would be great )\nEpilepsy and much more\n\n\n\n\n\n\n\n\n\n\n\n\n\n\n\n\n\n\nThis is a live class so you will need a working camera. \n\n\n\n\n\n\n\n\n\n\n\n\n\n\n\n\n\nAnd time for Q&A \nThe cameras must be on as we treat this the same as if it were a face to face class. \nEach participant will receive a certificate of attendance valid for 2 years.  \nCost- €80.00 \n50 CPD Points \nLimited Places
URL:https://www.reflexology.ie/event/zoom-first-aid-19th-may-2026/
LOCATION:Online – Zoom
ATTACH;FMTTYPE=image/png:https://www.reflexology.ie/wp-content/uploads/2026/03/May-First-Aid-.png
END:VEVENT
BEGIN:VEVENT
DTSTART;TZID=Europe/Dublin:20260604T093000
DTEND;TZID=Europe/Dublin:20260604T133000
DTSTAMP:20260420T012959
CREATED:20260312T151958Z
LAST-MODIFIED:20260312T151958Z
UID:4561-1780565400-1780579800@www.reflexology.ie
SUMMARY:Zoom First Aid 4th June 2026
DESCRIPTION:Thursday 4th June First Aid For Everyone 9.30am – 1.30pm\nTopics covered are: \n\nActivation of the emergency services\nChoking\nHead injury\nBurns\nRecovery position and unconscious casualty\nSprains and strains\nCPR ( if you can have a sofa cushion ready to practice the CPR that would be great )\nEpilepsy and much more\n\n\n\n\n\n\n\n\n\n\n\n\n\n\n\n\n\n\nThis is a live class so you will need a working camera. \n\n\n\n\n\n\n\n\n\n\n\n\n\n\n\n\n\nAnd time for Q&A \nThe cameras must be on as we treat this the same as if it were a face to face class. \nEach participant will receive a certificate of attendance valid for 2 years.  \nCost- €80.00 \n50 CPD Points \nLimited Places
URL:https://www.reflexology.ie/event/zoom-first-aid-4th-june-2026/
LOCATION:Online – Zoom
ATTACH;FMTTYPE=image/png:https://www.reflexology.ie/wp-content/uploads/2026/03/June-First-Aid-2026.png
END:VEVENT
BEGIN:VEVENT
DTSTART;TZID=Europe/Dublin:20260921T190000
DTEND;TZID=Europe/Dublin:20260921T200000
DTSTAMP:20260420T012959
CREATED:20250716T175302Z
LAST-MODIFIED:20260121T111317Z
UID:3534-1790017200-1790020800@www.reflexology.ie
SUMMARY:Zoom CPD - Katy Wayne  -    Hot & Cold Stone Reflexology
DESCRIPTION:Rescheduled Date Monday 21st September 2026\, 7pm – 8pm (Recorded) \nKaty Wayne with over 20 years within Education and training – Course Leader for Level 5 Practitioner Diploma in Reflexology and AOR approved Hot & Cold Stone CPD course. Passionate about quality education\, training and has a love for all things reflexology. \nHot and Cold Stone Reflexology utilises the warmth or coolness of the stones together with their profound energy to deliver a deeper level of relaxation to your clients and another dimension to your treatments; whilst at the same time safeguarding your own joints from pressure and repetitive strain. \nAll Welcome \nTickets €10 Members / €15 Non Members
URL:https://www.reflexology.ie/event/zoom-cpd-katy-wayne-hot-cold-stone-reflexology/
LOCATION:Online – Zoom
ATTACH;FMTTYPE=image/png:https://www.reflexology.ie/wp-content/uploads/2025/07/Katy-Wayne-rescheduled-date.png
END:VEVENT
END:VCALENDAR