BEGIN:VCALENDAR
VERSION:2.0
PRODID:-//Irish Reflexologists&#039; Institute - ECPv6.15.20//NONSGML v1.0//EN
CALSCALE:GREGORIAN
METHOD:PUBLISH
X-WR-CALNAME:Irish Reflexologists&#039; Institute
X-ORIGINAL-URL:https://www.reflexology.ie
X-WR-CALDESC:Events for Irish Reflexologists&#039; Institute
REFRESH-INTERVAL;VALUE=DURATION:PT1H
X-Robots-Tag:noindex
X-PUBLISHED-TTL:PT1H
BEGIN:VTIMEZONE
TZID:Europe/Dublin
BEGIN:DAYLIGHT
TZOFFSETFROM:+0000
TZOFFSETTO:+0100
TZNAME:IST
DTSTART:20250330T010000
END:DAYLIGHT
BEGIN:STANDARD
TZOFFSETFROM:+0100
TZOFFSETTO:+0000
TZNAME:GMT
DTSTART:20251026T010000
END:STANDARD
BEGIN:DAYLIGHT
TZOFFSETFROM:+0000
TZOFFSETTO:+0100
TZNAME:IST
DTSTART:20260329T010000
END:DAYLIGHT
BEGIN:STANDARD
TZOFFSETFROM:+0100
TZOFFSETTO:+0000
TZNAME:GMT
DTSTART:20261025T010000
END:STANDARD
BEGIN:DAYLIGHT
TZOFFSETFROM:+0000
TZOFFSETTO:+0100
TZNAME:IST
DTSTART:20270328T010000
END:DAYLIGHT
BEGIN:STANDARD
TZOFFSETFROM:+0100
TZOFFSETTO:+0000
TZNAME:GMT
DTSTART:20271031T010000
END:STANDARD
END:VTIMEZONE
BEGIN:VEVENT
DTSTART;TZID=Europe/Dublin:20260119T190000
DTEND;TZID=Europe/Dublin:20260119T200000
DTSTAMP:20260420T011922
CREATED:20250716T161243Z
LAST-MODIFIED:20250716T161243Z
UID:3512-1768849200-1768852800@www.reflexology.ie
SUMMARY:Zoom CPD - Christine Courtney - Understanding Chinese Medicine and how it can help your clients
DESCRIPTION:Monday 19th January 2026\, 7pm-8pm (Recorded) \nJust like reflex points\, the acupuncture points on the feet hold a story\, each one offering profound insight into the body\, mind\, and spirit. Points such as Liver 3 and Kidney 1 are not only powerful therapeutic tools\, but also rich in symbolism\, helping to restore balance and harmony while revealing subtle signs when something is out of sync. Learning to interpret this energetic language expands a Reflexologist’s toolbox\, enhancing both the effectiveness of each treatment. By integrating the wisdom of Chinese Medicine\, Reflexologists can offer a deeper\, energetic picture of the clients’ overall wellbeing \nChristine Courtney is the Principal and Founder of OBUS Academy and has been at the forefront of holistic education for over 25 years. A passionate teacher and practitioner\, she specialises in Aromatherapy\, Reflexology\, Massage\, Chinese Medicine\, Reiki\, and a wide range of complementary therapies. Christine is an internationally respected educator and speaker\, teaching annually in the USA\, Taiwan\, and China. Her lifelong passion for holistic health shines through in everything she does\, inspiring students around the world to connect\, heal\, and grow through the power of natural therapies. \nAll Welcome \nTickets €10 Members / €15 Non Members
URL:https://www.reflexology.ie/event/zoom-cpd-christine-courtney-understanding-chinese-medicine-and-how-it-can-help-your-clients/
ATTACH;FMTTYPE=image/png:https://www.reflexology.ie/wp-content/uploads/2025/07/Christine-Courtney-19th-January-2026.png
END:VEVENT
BEGIN:VEVENT
DTSTART;TZID=Europe/Dublin:20260124T093000
DTEND;TZID=Europe/Dublin:20260124T133000
DTSTAMP:20260420T011922
CREATED:20251213T114816Z
LAST-MODIFIED:20251213T114816Z
UID:4209-1769247000-1769261400@www.reflexology.ie
SUMMARY:Zoom First Aid Saturday 24th January 2026
DESCRIPTION:Saturday 24th January 2026\nTopics covered are: \n\nActivation of the emergency services\nChoking\nHead injury\nBurns\nRecovery position and unconscious casualty\nSprains and strains\nCPR ( if you can have a sofa cushion ready to practice the CPR that would be great )\nEpilepsy and much more\n\n\n\n\n\n\n\n\n\n\n\n\n\n\n\n\n\n\nThis is a live class so you will need a working camera. \n\n\n\n\n\n\n\n\n\n\n\n\n\n\n\n\n\nAnd time for Q&A \nThe cameras must be on as we treat this the same as if it were a face to face class. \nEach participant will receive a certificate of attendance valid for 2 years.  \nCost- €80.00 \n50 CPD Points \nLimited Places
URL:https://www.reflexology.ie/event/zoom-first-aid-saturday-24th-january-2026/
LOCATION:Online – Zoom
CATEGORIES:First Aid
ATTACH;FMTTYPE=image/png:https://www.reflexology.ie/wp-content/uploads/2025/12/Copy-of-Zoom-Basic-First-24th-January-2026-1.png
END:VEVENT
BEGIN:VEVENT
DTSTART;TZID=Europe/Dublin:20260203T190000
DTEND;TZID=Europe/Dublin:20260203T200000
DTSTAMP:20260420T011922
CREATED:20250716T153248Z
LAST-MODIFIED:20260125T055518Z
UID:3499-1770145200-1770148800@www.reflexology.ie
SUMMARY:Zoom CPD - Sally Kay - Reflexology Lymph Drainage
DESCRIPTION:Rescheduled Date Tuesday 3rd February 2026\, 7pm – 8pm (Not Recorded) \nReflexology Lymph Drainage (RLD) is a gentle\, evidence-based approach to practice. \nDiscover its first principles\, the results\, the benefits and the positive ripple effects RLD brings to reflexology. \nSally Kay is a best-selling author who created Reflexology Lymph Drainage (RLD) from first principles. She is widely respected for her clinical expertise\, research and commitment to sharing evidence-based practice with integrity through worldwide teaching. \nAll Welcome \nTickets €10 Members / €15 Non Members
URL:https://www.reflexology.ie/event/zoom-cpd-sally-kay-reflexology-lymph-drainage/
LOCATION:Online – Zoom
ATTACH;FMTTYPE=image/png:https://www.reflexology.ie/wp-content/uploads/2025/07/Sall-Kay-Reschedule.png
END:VEVENT
BEGIN:VEVENT
DTSTART;TZID=Europe/Dublin:20260210T193000
DTEND;TZID=Europe/Dublin:20260210T203000
DTSTAMP:20260420T011922
CREATED:20250716T163019Z
LAST-MODIFIED:20250716T163019Z
UID:3516-1770751800-1770755400@www.reflexology.ie
SUMMARY:Zoom CPD - Karen Middleton - Auricular/Ear Reflexology
DESCRIPTION:Tuesday 10th February 2026\, 7.30pm – 8.30pm (Recorded) \nThis presentation will focus on general calming – supporting anxiety\, nausea\, pain\, and sleep. \nAuricular/Ear Reflexology is a term that applies to a technique that is administered by working on the ears. The ear\, just like the hands and feet\, is a micro system\, on which the entire body is ‘mapped’\, in Reflexology terms\, on the outer portion of the ear\, called the auricle. \nKaren Middleton is a Reflexology Practitioner and Tutor in Auckland\, New Zealand\, and a member of Reflexology New Zealand (RNZ). She operates a thriving full time reflexology practice\, and runs the Auckland School of Reflexology\, which she opened in 2018. \nKaren’s love for the ear work is second only to working on the feet. She looks forward to enthusing you with the ‘power’ of the two tiny reflexology ‘maps’ on either side of your head ….. your EARS!\nDuring this presentation Karen will share an ear protocol for working with people in the chronic care and palliative care realm\, specifically during cancer treatment. You will learn how\, and when to use it and integrate it in to your existing practice to enhance the support you can offer your clients. \nAll Welcome \nTickets €10 Members / €15 Non Members
URL:https://www.reflexology.ie/event/zoom-cpd-karen-middleton-auricular-ear-reflexology/
ATTACH;FMTTYPE=image/png:https://www.reflexology.ie/wp-content/uploads/2025/07/Karen-Middleton-10th-February-2026.png
END:VEVENT
BEGIN:VEVENT
DTSTART;TZID=Europe/Dublin:20260216T190000
DTEND;TZID=Europe/Dublin:20260216T200000
DTSTAMP:20260420T011922
CREATED:20250716T165619Z
LAST-MODIFIED:20260121T104104Z
UID:3521-1771268400-1771272000@www.reflexology.ie
SUMMARY:Zoom CPD - Catherine Clooney - How Face Reflexology Clooney Concept can support our clients\, our own wellness and our business
DESCRIPTION:RESCHEDULED DATE Monday 16th February 2026\, 7pm-8pm (Recorded) \nCatherine says “I believe that what we experience and learn along the way shapes us and makes us who we are. I am inquisitive\, love to learn and add to my skills learning from experts and different cultures. Also\, developing my own work based on what I have learnt and experienced during my lifetime and from working with my clients.  I have seen what works for my clients and love to pass on my skills and knowledge to my fellow reflexologists” \n“I would love to talk to you all about working on the face.” \n“Over 20 years ago\, I trained in classical reflexology in London\, with the London School of Reflexology\, approved by The Association of Reflexologists. I have been working of the face for over 15 years. I love to spread the face reflexology word to my fellow reflexologists”. \nAll Welcome \nTickets €10 Members/ €15 Non Members
URL:https://www.reflexology.ie/event/zoom-cpd-catherine-clooney-how-face-reflexology-clooney-concept-can-support-our-clients-our-own-wellness-and-our-business/
LOCATION:Online – Zoom
ATTACH;FMTTYPE=image/png:https://www.reflexology.ie/wp-content/uploads/2025/07/Catherine-Clooney-16-Feb-2026.png
END:VEVENT
BEGIN:VEVENT
DTSTART;TZID=Europe/Dublin:20260217T093000
DTEND;TZID=Europe/Dublin:20260217T133000
DTSTAMP:20260420T011922
CREATED:20251213T120833Z
LAST-MODIFIED:20260202T161108Z
UID:4213-1771320600-1771335000@www.reflexology.ie
SUMMARY:Zoom First Aid Tuesday 17th February 2026 - Rescheduled Date
DESCRIPTION:Rescheduled date Tuesday 17th  February 2026 First Aid For Everyone 9.30am – 1.30pm\nTopics covered are: \n\nActivation of the emergency services\nChoking\nHead injury\nBurns\nRecovery position and unconscious casualty\nSprains and strains\nCPR ( if you can have a sofa cushion ready to practice the CPR that would be great )\nEpilepsy and much more\n\n\n\n\n\n\n\n\n\n\n\n\n\n\n\n\n\n\nThis is a live class so you will need a working camera. \n\n\n\n\n\n\n\n\n\n\n\n\n\n\n\n\n\nAnd time for Q&A \nThe cameras must be on as we treat this the same as if it were a face to face class. \nEach participant will receive a certificate of attendance valid for 2 years.  \nCost- €80.00 \n50 CPD Points \nLimited Places
URL:https://www.reflexology.ie/event/zoom-first-aid-thursday-19th-february-2026/
LOCATION:Online – Zoom
CATEGORIES:First Aid
ATTACH;FMTTYPE=image/png:https://www.reflexology.ie/wp-content/uploads/2025/12/Zoom-Basic-First-Aid-19th-February-2026-1-RESCEHEDULED-.png
END:VEVENT
BEGIN:VEVENT
DTSTART;TZID=Europe/Dublin:20260218T190000
DTEND;TZID=Europe/Dublin:20260218T200000
DTSTAMP:20260420T011922
CREATED:20250716T155828Z
LAST-MODIFIED:20260121T105459Z
UID:3507-1771441200-1771444800@www.reflexology.ie
SUMMARY:Zoom CPD- Joan Molloy - Epilepsy
DESCRIPTION:RESCHEDULED DATE Wednesday 18th February 2026\, 7pm-8pm (Not Recorded) \nI am a reflexologist and Intellectual Disability Nurse with over 30 years experience. Part of my job is to train\, staff\, parents and schools in Epilepsy Awareness and Rescue Medication. I would be interested in sharing my knowledge in epilepsy. I have completed Train the Trainer in Epilepsy and renew this qualifications every 2 years with a health care provider in Glasgow. \nTopics include\, what is epilepsy\,  what is a seizure\, diagnosis\, treatments\, types of seizures\, preventions\, first aid\, life style\, risks\, triggers\, oils\, protocols etc \nAll Welcome \nTickets €10 Members/€15 Non Members
URL:https://www.reflexology.ie/event/zoom-cpd-joan-molloy-epilepsy/
LOCATION:Online – Zoom
ATTACH;FMTTYPE=image/png:https://www.reflexology.ie/wp-content/uploads/2025/07/Joan-Molloy-18-feb-26.png
END:VEVENT
BEGIN:VEVENT
DTSTART;TZID=Europe/Dublin:20260228T100000
DTEND;TZID=Europe/Dublin:20260228T110000
DTSTAMP:20260420T011922
CREATED:20250716T104442Z
LAST-MODIFIED:20260203T191851Z
UID:3454-1772272800-1772276400@www.reflexology.ie
SUMMARY:Zoom CPD - Chris Stormer-Fryer - The E-motional and Spiritual Aspects of Feet
DESCRIPTION:Saturday 28th February 2026 – 10am -11am (Recorded) \nRenown for making sure that reflexology keeps pace with modern advancements\, Chris is passionate about sharing the e-motional and spiritual aspects of dis-ease. It is knowing know how to interpret the ever-changing characteristics of the feet\, as well as the questions to ask\, that practitioners can gain greater under-standing of each individual’s Hi-Story. \nFeet are truly remarkable! Speaking a very clear language of their own\, and knowing what the feet are saying\, allows for the early detection of uneasy e-motions before manifesting outwardly as physical dis-ease.  Marks and impressions\, combined with other characteristics such as shapes\, colouring\, skin conditions\, markings and angles when walking\, standing\, sitting or lying provide so many valuable clues . \nInstead of being soul ( and sole) destroyed\, a worthwhile direction can be discovered through the feet. \nTickets €10 Members / €15 Non Members \nAll Welcome
URL:https://www.reflexology.ie/event/3454/
LOCATION:Online – Zoom
ATTACH;FMTTYPE=image/png:https://www.reflexology.ie/wp-content/uploads/2025/07/Chris-Stormer-20-Sept-25-2.png
END:VEVENT
BEGIN:VEVENT
DTSTART;TZID=Europe/Dublin:20260310T190000
DTEND;TZID=Europe/Dublin:20260310T200000
DTSTAMP:20260420T011922
CREATED:20250716T151213Z
LAST-MODIFIED:20260226T093745Z
UID:3495-1773169200-1773172800@www.reflexology.ie
SUMMARY:Zoom CPD - Hagar Basis - The therapeutic benefits of integrating specific bimanual reflexology techniques focusing on the Vagus Nerve
DESCRIPTION:Tuesday 10th March 2026\, 7pm – 8pm (Recorded) \nThe Therapeutic Benefits of Integrating Bimanual Techniques into your Reflexology Practice – Focusing on The Vagus Nerve.During the Zoom presentation\, I will share my work within its practical and theoretical context\, highlighting the process I have developed and refined over 35 years as a reflexologist.  \nHagar Basis\, Director of Reflexology Academy\, has over 35 years of experience as a reflexology educator and practitioner. Originally trained in the Ingham Method and by Anthony Porter\, she has played a key role in delivering post-graduate training and numerous diploma courses. Recognized for her contributions\, she received an honorary fellowship from A.R.T and a special award from the International Council of Reflexologists in 2017 for her services to Reflexology Education. \nAll Welcome \nTickets €10 Members/€15 Non Members
URL:https://www.reflexology.ie/event/zoom-cpd-hagar-basis-the-therapeutic-benefits-of-integrating-specific-bimanual-reflexology-techniques-focusing-on-the-vagus-nerve/
LOCATION:Online – Zoom
ATTACH;FMTTYPE=image/png:https://www.reflexology.ie/wp-content/uploads/2025/07/Hagar-Basis-10th-March-2026-1.png
END:VEVENT
BEGIN:VEVENT
DTSTART;TZID=Europe/Dublin:20260326T093000
DTEND;TZID=Europe/Dublin:20260326T133000
DTSTAMP:20260420T011922
CREATED:20251213T121530Z
LAST-MODIFIED:20251213T121750Z
UID:4216-1774517400-1774531800@www.reflexology.ie
SUMMARY:Zoom First Aid Saturday 21st March 2026
DESCRIPTION:Saturday 21st March 2026 First Aid For Everyone 9.30am – 1.30pm\nTopics covered are: \n\nActivation of the emergency services\nChoking\nHead injury\nBurns\nRecovery position and unconscious casualty\nSprains and strains\nCPR ( if you can have a sofa cushion ready to practice the CPR that would be great )\nEpilepsy and much more\n\n\n\n\n\n\n\n\n\n\n\n\n\n\n\n\n\n\nThis is a live class so you will need a working camera. \n\n\n\n\n\n\n\n\n\n\n\n\n\n\n\n\n\nAnd time for Q&A \nThe cameras must be on as we treat this the same as if it were a face to face class. \nEach participant will receive a certificate of attendance valid for 2 years.  \nCost- €80.00 \n50 CPD Points \nLimited Places
URL:https://www.reflexology.ie/event/4216/
LOCATION:Online – Zoom
CATEGORIES:First Aid
ATTACH;FMTTYPE=image/png:https://www.reflexology.ie/wp-content/uploads/2025/12/Zoom-First-Aid-Saturday-21st-March-2026.png
END:VEVENT
BEGIN:VEVENT
DTSTART;TZID=Europe/Dublin:20260409T093000
DTEND;TZID=Europe/Dublin:20260409T133000
DTSTAMP:20260420T011922
CREATED:20251213T121912Z
LAST-MODIFIED:20251213T121912Z
UID:4220-1775727000-1775741400@www.reflexology.ie
SUMMARY:Zoom First Aid Thursday 9th April 2026
DESCRIPTION:Thursday 9th April 2026 First Aid For Everyone 9.30am – 1.30pm\nTopics covered are: \n\nActivation of the emergency services\nChoking\nHead injury\nBurns\nRecovery position and unconscious casualty\nSprains and strains\nCPR ( if you can have a sofa cushion ready to practice the CPR that would be great )\nEpilepsy and much more\n\n\n\n\n\n\n\n\n\n\n\n\n\n\n\n\n\n\nThis is a live class so you will need a working camera. \n\n\n\n\n\n\n\n\n\n\n\n\n\n\n\n\n\nAnd time for Q&A \nThe cameras must be on as we treat this the same as if it were a face to face class. \nEach participant will receive a certificate of attendance valid for 2 years.  \nCost- €80.00 \n50 CPD Points \nLimited Places
URL:https://www.reflexology.ie/event/zoom-first-aid-thursday-9th-april-2026/
LOCATION:Online – Zoom
CATEGORIES:First Aid
ATTACH;FMTTYPE=image/png:https://www.reflexology.ie/wp-content/uploads/2025/12/Zoom-Basic-First-Aid-9th-April-2026.png
END:VEVENT
BEGIN:VEVENT
DTSTART;TZID=Europe/Dublin:20260420T200000
DTEND;TZID=Europe/Dublin:20260420T210000
DTSTAMP:20260420T011922
CREATED:20250716T171919Z
LAST-MODIFIED:20260325T165227Z
UID:3524-1776715200-1776718800@www.reflexology.ie
SUMMARY:Zoom CPD - Pauline O'Hagan - Maternity Reflexology
DESCRIPTION:Monday 20th April 2025\, 8pm – 9pm (Recorded) \nPauline has been working as a reflexologist for 40 yrs \, she trained as a general nurse and midwife first and has spent 40 yrs teaching antenatal classes and preparing mothers for labour and delivery. She is  passionate about all things maternity and  wants to impart her knowledge to all reflexologists.  She feels the whole business of having babies has been over medicalised and women are filled with fear\, we as reflexologists can do a lot to help prepare mothers to have a positive birthing experience. .  \nSimple explanations of comment ailments in Pregnancy and supportive measures of how to relieve them\nincluding Morning sickness; heartburn; Constipation; Anaemia; Carpel Tunnel Syndrome\,\nFatigue; Anxiety; Cystitis; Dizziness; Pelvic pain; Insomnia; Leg cramps; Restless legs\,\nSciatica; Gestational Diabetes\, Symphysis Pubis Diastasis \n\n Progress of Pregnancy and areas/reflexes to focus on at each stage\, week by week\n Areas/Reflexes on feet to focus on for each ailment\n Advice for Optimal Foetal Positioning\n Going to hospital. A few extras to make life easy\n Reflexology for Labour – sedating and stimulating techniques. Useful positions for during labour\n Explanation of hormones involved in the process of labour\n Stages of labour. Good labour positions\n Situations requiring immediate attention\n Practical section of course includes useful Reflexology techniques including Solar Plexus hold\, Pelvic stretch\, Spinal Twist\, Spinal Stretching\, Lung Press\, Ankle Boogie. Ankle Rotation; Urinary System Flush\, Metamorphic Technique and Coping point.\n\nAll Welcome \nTickets €10 Members / €15 Non Members
URL:https://www.reflexology.ie/event/zoom-cpd-pauline-ohagan-maternity-reflexology/
LOCATION:Online – Zoom
ATTACH;FMTTYPE=image/png:https://www.reflexology.ie/wp-content/uploads/2025/07/Pauline-OHagan-13-April-2026-1.png
END:VEVENT
BEGIN:VEVENT
DTSTART;TZID=Europe/Dublin:20260427T200000
DTEND;TZID=Europe/Dublin:20260427T210000
DTSTAMP:20260420T011922
CREATED:20250716T174006Z
LAST-MODIFIED:20260310T091924Z
UID:3528-1777320000-1777323600@www.reflexology.ie
SUMMARY:Zoom CPD - Dorothy Kelly - My Approach to Fertility Reflexology\, with a Naturopathic twist 
DESCRIPTION:Monday 27th April 2026\, 8pm – 9pm (Recorded) \nPreconception care is key to boosting fertility\, optimising fertilisation\, and ensuring a healthy pregnancy. A tailored evidence based approach supports both partners—cleaner nutrition\, stress management\, gentle exercise\, and reflexology help regulate/enhance menstruation in women\, while men benefit from dietary support\, reflexology\, and both benefit from naturopathic techniques alongside SA analysis or referrals for further investigation. This client-centred\, holistic\, practical approach empowers individuals on their fertility journey and beyond. \nMy overall success rate has been over 89%. \nWith extensive NHS experience in both primary and secondary care\, I’ve spent years specialising in women’s health—gynae\, maternity\, and fertility—working in Belfast’s first NHS fertility clinic before ART clinics emerged . I’ve also worked in a private Fertility Clinic in Belfast gaining knowledge which I used to translate into Reflexology techniques for ART clients.  My  practical reflexology work deepened my expertise\, and as a reflexologist\, I honed my fertility – focused approach after completing my Naturopathy qualification. For 15 years\, I’ve taught my CPD course\, whilst for 10 years I’ve delivered the OFQUAL regulated L5 Reflexology qualification in Belfast. Now\, I’ve expanded into Castleblayney\, establishing the L5 course—equivalent to L6 QQI—since March 2025\, in collaboration with my ROI tutor Jenny McKeever. \nAll Welcome \nTickets €10 Members / €15 Non Members
URL:https://www.reflexology.ie/event/zoom-cpd-dorothy-kelly-my-approach-to-fertility-reflexology-with-a-naturopathic-twist/
LOCATION:Online – Zoom
ATTACH;FMTTYPE=image/png:https://www.reflexology.ie/wp-content/uploads/2025/07/Dorothy-Kelly-27th-April-2026.png
END:VEVENT
BEGIN:VEVENT
DTSTART;TZID=Europe/Dublin:20260505T200000
DTEND;TZID=Europe/Dublin:20260505T210000
DTSTAMP:20260420T011922
CREATED:20260413T171048Z
LAST-MODIFIED:20260419T151547Z
UID:4672-1778011200-1778014800@www.reflexology.ie
SUMMARY:Zoom CPD - Kevin Kunz - Neural Pathways to Applied Reflexology - (This Event will be Recorded)
DESCRIPTION:This Event will be Recorded\n \nSome events feel a bit special… this is one of them.\n \nWe’re delighted to welcome internationally recognised reflexology pioneers Barbara Kunz and Kevin Kunz for an exclusive Zoom CPD this May.\n \nWith over 50 years of work in reflexology\, their contribution to the field is extraordinary – from authoring globally published texts to leading cutting-edge research exploring the connection between the foot and the brain.\n \nOn the night\, they’ll be sharing:\n• the latest developments in reflexology research\n• insights into their current Neural Pathways of Applied Reflexology project\n• a preview of their upcoming presentation to thousands of neuroscientists\n• and the evolving collaboration with two universities in this space\n \nBarbara will be co-presenting\, making this a rare opportunity to hear directly from both of them.\n \n🗓️ 5th May\n⏰ 8–9pm GMT\n💻 Live on Zoom\n \nIf you’re a reflexologist who wants to stay informed\, inspired\, and connected to where the profession is going\, this is not one to miss.\n \n🎟️ Tickets available now at www.reflexology.ie
URL:https://www.reflexology.ie/event/zoom-cpd-kevin-kunz-neural-pathways-to-applied-reflexology/
LOCATION:Online – Zoom
ATTACH;FMTTYPE=image/png:https://www.reflexology.ie/wp-content/uploads/2026/04/kevin-kunzs.png
END:VEVENT
BEGIN:VEVENT
DTSTART;TZID=Europe/Dublin:20260519T093000
DTEND;TZID=Europe/Dublin:20260519T133000
DTSTAMP:20260420T011922
CREATED:20260312T151551Z
LAST-MODIFIED:20260312T151551Z
UID:4558-1779183000-1779197400@www.reflexology.ie
SUMMARY:Zoom First Aid 19th May 2026
DESCRIPTION:Tuesday 19th May 2026 First Aid For Everyone 9.30am – 1.30pm\nTopics covered are: \n\nActivation of the emergency services\nChoking\nHead injury\nBurns\nRecovery position and unconscious casualty\nSprains and strains\nCPR ( if you can have a sofa cushion ready to practice the CPR that would be great )\nEpilepsy and much more\n\n\n\n\n\n\n\n\n\n\n\n\n\n\n\n\n\n\nThis is a live class so you will need a working camera. \n\n\n\n\n\n\n\n\n\n\n\n\n\n\n\n\n\nAnd time for Q&A \nThe cameras must be on as we treat this the same as if it were a face to face class. \nEach participant will receive a certificate of attendance valid for 2 years.  \nCost- €80.00 \n50 CPD Points \nLimited Places
URL:https://www.reflexology.ie/event/zoom-first-aid-19th-may-2026/
LOCATION:Online – Zoom
ATTACH;FMTTYPE=image/png:https://www.reflexology.ie/wp-content/uploads/2026/03/May-First-Aid-.png
END:VEVENT
BEGIN:VEVENT
DTSTART;TZID=Europe/Dublin:20260604T093000
DTEND;TZID=Europe/Dublin:20260604T133000
DTSTAMP:20260420T011922
CREATED:20260312T151958Z
LAST-MODIFIED:20260312T151958Z
UID:4561-1780565400-1780579800@www.reflexology.ie
SUMMARY:Zoom First Aid 4th June 2026
DESCRIPTION:Thursday 4th June First Aid For Everyone 9.30am – 1.30pm\nTopics covered are: \n\nActivation of the emergency services\nChoking\nHead injury\nBurns\nRecovery position and unconscious casualty\nSprains and strains\nCPR ( if you can have a sofa cushion ready to practice the CPR that would be great )\nEpilepsy and much more\n\n\n\n\n\n\n\n\n\n\n\n\n\n\n\n\n\n\nThis is a live class so you will need a working camera. \n\n\n\n\n\n\n\n\n\n\n\n\n\n\n\n\n\nAnd time for Q&A \nThe cameras must be on as we treat this the same as if it were a face to face class. \nEach participant will receive a certificate of attendance valid for 2 years.  \nCost- €80.00 \n50 CPD Points \nLimited Places
URL:https://www.reflexology.ie/event/zoom-first-aid-4th-june-2026/
LOCATION:Online – Zoom
ATTACH;FMTTYPE=image/png:https://www.reflexology.ie/wp-content/uploads/2026/03/June-First-Aid-2026.png
END:VEVENT
BEGIN:VEVENT
DTSTART;TZID=Europe/Dublin:20260921T190000
DTEND;TZID=Europe/Dublin:20260921T200000
DTSTAMP:20260420T011922
CREATED:20250716T175302Z
LAST-MODIFIED:20260121T111317Z
UID:3534-1790017200-1790020800@www.reflexology.ie
SUMMARY:Zoom CPD - Katy Wayne  -    Hot & Cold Stone Reflexology
DESCRIPTION:Rescheduled Date Monday 21st September 2026\, 7pm – 8pm (Recorded) \nKaty Wayne with over 20 years within Education and training – Course Leader for Level 5 Practitioner Diploma in Reflexology and AOR approved Hot & Cold Stone CPD course. Passionate about quality education\, training and has a love for all things reflexology. \nHot and Cold Stone Reflexology utilises the warmth or coolness of the stones together with their profound energy to deliver a deeper level of relaxation to your clients and another dimension to your treatments; whilst at the same time safeguarding your own joints from pressure and repetitive strain. \nAll Welcome \nTickets €10 Members / €15 Non Members
URL:https://www.reflexology.ie/event/zoom-cpd-katy-wayne-hot-cold-stone-reflexology/
LOCATION:Online – Zoom
ATTACH;FMTTYPE=image/png:https://www.reflexology.ie/wp-content/uploads/2025/07/Katy-Wayne-rescheduled-date.png
END:VEVENT
END:VCALENDAR