BEGIN:VCALENDAR
VERSION:2.0
PRODID:-//Irish Reflexologists&#039; Institute - ECPv6.15.20//NONSGML v1.0//EN
CALSCALE:GREGORIAN
METHOD:PUBLISH
X-ORIGINAL-URL:https://www.reflexology.ie
X-WR-CALDESC:Events for Irish Reflexologists&#039; Institute
REFRESH-INTERVAL;VALUE=DURATION:PT1H
X-Robots-Tag:noindex
X-PUBLISHED-TTL:PT1H
BEGIN:VTIMEZONE
TZID:Europe/Dublin
BEGIN:DAYLIGHT
TZOFFSETFROM:+0000
TZOFFSETTO:+0100
TZNAME:IST
DTSTART:20250330T010000
END:DAYLIGHT
BEGIN:STANDARD
TZOFFSETFROM:+0100
TZOFFSETTO:+0000
TZNAME:GMT
DTSTART:20251026T010000
END:STANDARD
BEGIN:DAYLIGHT
TZOFFSETFROM:+0000
TZOFFSETTO:+0100
TZNAME:IST
DTSTART:20260329T010000
END:DAYLIGHT
BEGIN:STANDARD
TZOFFSETFROM:+0100
TZOFFSETTO:+0000
TZNAME:GMT
DTSTART:20261025T010000
END:STANDARD
BEGIN:DAYLIGHT
TZOFFSETFROM:+0000
TZOFFSETTO:+0100
TZNAME:IST
DTSTART:20270328T010000
END:DAYLIGHT
BEGIN:STANDARD
TZOFFSETFROM:+0100
TZOFFSETTO:+0000
TZNAME:GMT
DTSTART:20271031T010000
END:STANDARD
END:VTIMEZONE
BEGIN:VEVENT
DTSTART;TZID=Europe/Dublin:20260203T190000
DTEND;TZID=Europe/Dublin:20260203T200000
DTSTAMP:20260419T195208
CREATED:20250716T153248Z
LAST-MODIFIED:20260125T055518Z
UID:3499-1770145200-1770148800@www.reflexology.ie
SUMMARY:Zoom CPD - Sally Kay - Reflexology Lymph Drainage
DESCRIPTION:Rescheduled Date Tuesday 3rd February 2026\, 7pm – 8pm (Not Recorded) \nReflexology Lymph Drainage (RLD) is a gentle\, evidence-based approach to practice. \nDiscover its first principles\, the results\, the benefits and the positive ripple effects RLD brings to reflexology. \nSally Kay is a best-selling author who created Reflexology Lymph Drainage (RLD) from first principles. She is widely respected for her clinical expertise\, research and commitment to sharing evidence-based practice with integrity through worldwide teaching. \nAll Welcome \nTickets €10 Members / €15 Non Members
URL:https://www.reflexology.ie/event/zoom-cpd-sally-kay-reflexology-lymph-drainage/
LOCATION:Online – Zoom
ATTACH;FMTTYPE=image/png:https://www.reflexology.ie/wp-content/uploads/2025/07/Sall-Kay-Reschedule.png
END:VEVENT
END:VCALENDAR